BEGIN:VCALENDAR
VERSION:2.0
CALSCALE:GREGORIAN
PRODID:adamgibbons/ics
METHOD:PUBLISH
X-PUBLISHED-TTL:PT1H
BEGIN:VEVENT
UID:-V07ilQsmZnbR9_tzY4KF
SUMMARY:Red Tent: Healing the Mother Wound
DTSTAMP:20260413T125500Z
DTSTART:20250424T220000Z
DTEND:20250425T010000Z
DESCRIPTION:Red Tents are safe and sacred women's circles where we come tog
	ether to honor\nour cyclical nature\, our experiences\, our relationship t
	o our body\, the moon\,\nmother Earth and the Divine feminine in all. We h
	onor our womb spaces by\nempowering ourselves to heal them and our lineage
	 through sharing in wisdom\,\nceremony\, and sisterhood. \n\n\n\nFor this 
	April 24th Red Tent\, join us as we dive deep into healing the mother\nwou
	nd and our womb spaces through the womb priestess vow\, a guided womb\nmed
	itation\, transfer of the Munay Ki womb keepers rite and singing together 
	as\nwe lift our voices and raise our vibration to be divinely aligned with
	 our\nhighest self and the divine feminine within us all.\n\n\n\nPlease br
	ing a dish to pass\, an item for the altar\, and a friend! This is a\ndona
	tion based event and your generosity makes this work possible\, sustainabl
	e\nand accessible. \n\n\n\nThis is a Sophia Unfolds [https://www.sophiaunf
	olds.org/] event\, facilitated by\nMary Thomason & Johanna Nader
LOCATION:7 Notes Natural Health\, Suite 180
STATUS:CONFIRMED
END:VEVENT
END:VCALENDAR
